BEGIN:VCALENDAR
VERSION:2.0
PRODID:-//ChamberMaster//Event Calendar 2.0//EN
METHOD:PUBLISH
X-PUBLISHED-TTL:P3D
REFRESH-INTERVAL:P3D
CALSCALE:GREGORIAN
BEGIN:VEVENT
DTSTART:20260515T130000Z
DTEND:20260515T150000Z
X-MICROSOFT-CDO-ALLDAYEVENT:FALSE
SUMMARY:Eggs & Issues: 2026 Legislative Breakfast with Jones County Legislators
DESCRIPTION:Join us for Eggs & Issues\, one of the Chamber's cornerstone educational forums designed to connect our community with key decision-makers shaping the future of Jones County. Over breakfast at the Laurel Country Club\, attendees will gain firsthand insights from our state legislators as they recap the highlights\, hurdles\, and victories of the 2026 legislative session.\n\n \n\nThis event is more than a recap\, it's your opportunity to hear how state-level decisions translate into real impacts on our local businesses\, schools\, infrastructure\, and quality of life. As part of our mission to drive economic growth and foster a stronger\, more vibrant community\, the Chamber is proud to create a space where policy meets the people it affects most.\n\n \n\nWhether you're a business leader\, elected official\, educator\, or engaged citizen\, this forum is your chance to stay informed\, ask questions\, and make your voice heard in shaping Jones County's future.\n\n \n\nBreakfast. Insight. Impact.\n\nDon't miss this opportunity to be part of the conversation.
X-ALT-DESC;FMTTYPE=text/html:<div>\n<p class="p1"><span style="font-size:20px\;"><span style="color:#000000\;">Join us for <i>Eggs &amp\; Issues</i>\, one of the Chamber&rsquo\;s cornerstone educational forums designed to connect our community with key decision-makers shaping the future of Jones County. Over breakfast at the Laurel Country Club\, attendees will gain firsthand insights from our state legislators as they recap the highlights\, hurdles\, and victories of the 2026 legislative session.</span></span></p>\n\n<p class="p2">&nbsp\;</p>\n\n<p class="p1"><span style="font-size:20px\;"><span style="color:#000000\;">This event is more than a recap\, it&rsquo\;s your opportunity to hear how state-level decisions translate into real impacts on our local businesses\, schools\, infrastructure\, and quality of life. As part of our mission to drive economic growth and foster a stronger\, more vibrant community\, the Chamber is proud to create a space where policy meets the people it affects most.</span></span></p>\n\n<p class="p2">&nbsp\;</p>\n\n<p class="p1"><span style="font-size:20px\;"><span style="color:#000000\;">Whether you&rsquo\;re a business leader\, elected official\, educator\, or engaged citizen\, this forum is your chance to stay informed\, ask questions\, and make your voice heard in shaping Jones County&rsquo\;s future.</span></span></p>\n\n<p class="p2">&nbsp\;</p>\n\n<p class="p3"><span style="font-size:20px\;"><span style="color:#000000\;"><b>Breakfast. Insight. Impact.</b></span></span></p>\n\n<p class="p1"><span style="font-size:20px\;"><span style="color:#000000\;">Don&rsquo\;t miss this opportunity to be part of the conversation.</span></span></p>\n</div>\n
LOCATION:Laurel Country Club 2011 US-84 Laurel\, MS 39440
UID:e.1941.15033
SEQUENCE:3
DTSTAMP:20260421T031113Z
URL:http://members.jonescounty.com/events/details/eggs-issues-2026-legislative-breakfast-with-jones-county-legislators-15033
END:VEVENT

END:VCALENDAR
